BEGIN:VCALENDAR
PRODID:-//Forum Wirtschaft//NONSGML v1.0//EN
CALSCALE:GREGORIAN
X-WR-CALNAME:Forum Wirtschaft
VERSION:2.0
BEGIN:VEVENT
UID:48h-out-of-office-fuer-fuehrungskraefte-loslassen-auftanken-neu-sehen
DTSTAMP:20260424T102307Z
DTSTART:20260925T180000
DTEND:20260925T130000
RRULE:FREQ=DAILY;COUNT=3
LOCATION:Bildungshaus Kloster St. Ulrich, Bollschweil bei Freiburg, Deutschland
SUMMARY:48h Out of Office für Führungskräfte - Loslassen. Auftanken. Neu sehen.
DESCRIPTION:48h Out of Office für Führungskräfte - Loslassen. Auftanken. Neu sehen.
URL:https://www.forum-kirchewirtschaft.ch/events/48h-out-of-office-fuer-fuehrungskraefte-loslassen-auftanken-neu-sehen
END:VEVENT
END:VCALENDAR
