BEGIN:VCALENDAR
PRODID:-//Forum Wirtschaft//NONSGML v1.0//EN
CALSCALE:GREGORIAN
X-WR-CALNAME:Forum Wirtschaft
VERSION:2.0
BEGIN:VEVENT
UID:save-the-date-kuenstliche-intelligenz-und-wir-muessen-wir-um-unser-bewusstsein-fuerchten
DTSTAMP:20260424T102419Z
DTSTART:20261105T183000
DTEND:20261105T220000
LOCATION:Kloster/Gemeindesaal Kappel am Albis
SUMMARY:Save the date: Künstliche Intelligenz und wir – Müssen wir um unser Bewusstsein fürchten?
DESCRIPTION:Save the date: Künstliche Intelligenz und wir – Müssen wir um unser Bewusstsein fürchten?
URL:https://www.forum-kirchewirtschaft.ch/events/save-the-date-kuenstliche-intelligenz-und-wir-muessen-wir-um-unser-bewusstsein-fuerchten
END:VEVENT
END:VCALENDAR
